BEGIN:VCALENDAR
VERSION:2.0
PRODID:-//E CIENTO VEINTE - ECPv6.5.1.6//NONSGML v1.0//EN
CALSCALE:GREGORIAN
METHOD:PUBLISH
X-ORIGINAL-URL:https://ecientoveinte.com
X-WR-CALDESC:Eventos para E CIENTO VEINTE
REFRESH-INTERVAL;VALUE=DURATION:PT1H
X-Robots-Tag:noindex
X-PUBLISHED-TTL:PT1H
BEGIN:VTIMEZONE
TZID:UTC
BEGIN:STANDARD
TZOFFSETFROM:+0000
TZOFFSETTO:+0000
TZNAME:UTC
DTSTART:20240101T000000
END:STANDARD
END:VTIMEZONE
BEGIN:VEVENT
DTSTART;TZID=UTC:20250227T193000
DTEND;TZID=UTC:20250227T213000
DTSTAMP:20260422T121506
CREATED:20250224T225817Z
LAST-MODIFIED:20250224T225909Z
UID:12513-1740684600-1740691800@ecientoveinte.com
SUMMARY:INAUGURACIÓN ÁNIMA
DESCRIPTION:E Ciento Veinte presenta Ánima\, la primera exposición individual de Dylan Dubson\n(Ciudad de México\, 1994) en Madrid comisariada por Sofía Sáenz de Santa María.\nDubson utiliza la respiración como herramienta principal de creación\, convirtiendo el\nacto de exhalar en un gesto plástico.
URL:https://ecientoveinte.com/event/inauguracion-anima/
LOCATION:E CIENTO VEINTE\, C/ Antonio Maura 18\, Madrid\, Madrid\, 28014\, España
CATEGORIES:Inaguración
ATTACH;FMTTYPE=image/jpeg:https://ecientoveinte.com/wp-content/uploads/2025/02/ANIMA_INVITE_FF.jpg
ORGANIZER;CN="E CIENTO VEINTE":MAILTO:contacto@ecientoveinte.com
END:VEVENT
BEGIN:VEVENT
DTSTART;TZID=UTC:20241128T193000
DTEND;TZID=UTC:20241128T213000
DTSTAMP:20260422T121506
CREATED:20241121T204423Z
LAST-MODIFIED:20241121T204423Z
UID:12341-1732822200-1732829400@ecientoveinte.com
SUMMARY:Inauguración Borrowed Time
DESCRIPTION:Abdul Vas\nn. Venezuela\, 1981\nEl discurso poético que propone Vas a través de sus imágenes proviene de su diálogo permanente con AC/DC y el rock´n´roll. Las propuestas de Vas reflexionan sobre el ejercicio de una práctica artística enlazada a la ejecución de una misma operación de vínculo indestructible\, de veneración y entrega humilde a su unificación a partir del hecho artístico con la banda de rock AC/DC. Llegando a equiparar el acto pictórico con la fuerza que se tiene al entrar a un estudio de grabación para realizar un álbum.
URL:https://ecientoveinte.com/event/inauguracion-borrowed-time/
LOCATION:E CIENTO VEINTE\, C/ Antonio Maura 18\, Madrid\, Madrid\, 28014\, España
CATEGORIES:Inaguración
ATTACH;FMTTYPE=image/jpeg:https://ecientoveinte.com/wp-content/uploads/2024/11/4-jorge-luis-borges-abdul-vas.jpg
ORGANIZER;CN="E CIENTO VEINTE":MAILTO:contacto@ecientoveinte.com
END:VEVENT
BEGIN:VEVENT
DTSTART;TZID=UTC:20241005T120000
DTEND;TZID=UTC:20241005T140000
DTSTAMP:20260422T121506
CREATED:20240924T144656Z
LAST-MODIFIED:20240927T163240Z
UID:12051-1728129600-1728136800@ecientoveinte.com
SUMMARY:Descubriendo el Frottage con Perla Krauze
DESCRIPTION:Descubre el arte de Perla Krauze: Visita guiada y taller de frottage al aire libre \nÚnete a nosotros en una experiencia artística única. La propia Perla Krauze te guiará en un recorrido por su exposición y te mostrará cómo utiliza el arte para expresar su visión del mundo. A continuación\, saldremos a explorar los alrededores de la galería y realizaremos una impronta a través de una de las técnicas más antiguas de registro el frottage. Utilizando tela y grafito\, crearás tus propias obras de arte inspiradas en la obra de Perla. \n¡No te pierdas esta oportunidad de conectar con el arte de la mano de una gran artista! \n\nEl taller esta dirigido a toda la familia (adultos y niños mayores de 6 años) \nEl taller tiene cupo limitado por lo que es importante confirmar su asistencia por correo electrónico: triana@ecientoveinte.com o por DM en @ecientoveinte o al whatsapp al 659 062 884 \nEl incluye todos los materiales necesarios y cuenta con una cuota de recuperación de 10 € por persona
URL:https://ecientoveinte.com/event/taller-de-improntas-con-perla-krauze-visita-guiada/
LOCATION:E CIENTO VEINTE\, C/ Antonio Maura 18\, Madrid\, Madrid\, 28014\, España
CATEGORIES:Actividades,Actividades para niños,Programa público
ATTACH;FMTTYPE=image/jpeg:https://ecientoveinte.com/wp-content/uploads/2024/09/Invitacion_Taller_PERLA-KRAUZE-_04.jpg
ORGANIZER;CN="E CIENTO VEINTE":MAILTO:contacto@ecientoveinte.com
END:VEVENT
BEGIN:VEVENT
DTSTART;TZID=UTC:20241003T193000
DTEND;TZID=UTC:20241003T213000
DTSTAMP:20260422T121506
CREATED:20240924T143733Z
LAST-MODIFIED:20240924T143733Z
UID:12048-1727983800-1727991000@ecientoveinte.com
SUMMARY:Charla entorno a la obra de Perla Krauze
DESCRIPTION:«Un lugar después de otro»\, marca el regreso de Perla Krauze a Madrid tras su primera exposición en 2004\, en el Instituto Cultural de México en España. Dicha exposición se sitúa en el cruce de varias de las líneas del trabajo que  la artista ha venido explorando desde inicios de su carrera. La obra de Krauze sucede en un espacio liminal en el que el paisaje\, el recorrido y la memoria se fusionan para crear una nueva dimensión de significado. Durante esta charla tendremos el honor de poder compartir parte de su trayectoria de voz propia de la artista así como nutrirnos de la conversación que surgirá entre la comisaria Sofía Mariscal y nuestra invitada especial Mónica Sotos tras más de una década siguiendo y estudiando de cerca a la artista. \n  \n________ \n  \nPerla Krauze\, nacida en Ciudad de México en 1953\, es una de las artistas contemporáneas más destacadas de su generación. Formada en Diseño Gráfico en la Universidad Nacional Autónoma de México y con estudios en textiles en el Goldsmiths College de Londres\, así como una maestría en Artes Plásticas del Chelsea College of Arts\, su obra ha sido exhibida en importantes museos y galerías tanto en México como en el extranjero. Su práctica artística ha sido reconocida por diversas instituciones y ha participado en prestigiosos programas de residencia artística en China\, Japón\, Canadá y Estados Unidos. \nLa obra de Krauze forma parte de colecciones públicas y privadas\, incluyendo el Museo de Arte Moderno de México\, el Museo Amparo\, el MUAC – UNAM\, y el Scottsdale Museum of Contemporary Art\, entre otros. Desde 1994\, ha sido miembro del Sistema Nacional de Creadores de Arte en México\, consolidándose como una figura esencial en el arte contemporáneo del País.
URL:https://ecientoveinte.com/event/charla-entorno-a-la-obra-de-perla-krauze/
LOCATION:E CIENTO VEINTE\, C/ Antonio Maura 18\, Madrid\, Madrid\, 28014\, España
CATEGORIES:Charlas,Programa público
ATTACH;FMTTYPE=image/jpeg:https://ecientoveinte.com/wp-content/uploads/2024/09/Invitacion_charla_-PERLA-KRAUZE_05.jpg
ORGANIZER;CN="E CIENTO VEINTE":MAILTO:contacto@ecientoveinte.com
END:VEVENT
BEGIN:VEVENT
DTSTART;TZID=UTC:20240911T190000
DTEND;TZID=UTC:20240911T210000
DTSTAMP:20260422T121506
CREATED:20240830T110916Z
LAST-MODIFIED:20240830T110916Z
UID:11940-1726081200-1726088400@ecientoveinte.com
SUMMARY:Un lugar después de otro\, Perla Krauze
DESCRIPTION:Perla Krauze\n\n\n\n\nn. Ciudad de México\, 1953\n\n\n\n\n\n\n\n\n\n\n\nArtista multidisciplinaria cuya obra es una exploración entre lo bidimensional y lo tridimensional. Utiliza diversas técnicas como el dibujo\, la pintura\, la escultura\, la fotografía\, el video y las instalaciones con el fin de tener un diálogo con el sitio y el espacio específico. Su obra gira en torno a la naturaleza\, el tiempo y la memoria. Su trabajo investiga con materiales diversos\, las dualidades entre lo efímero y permanente\, lo racional e intuitivo\, lo natural y artificial.
URL:https://ecientoveinte.com/event/un-lugar-despues-de-otro-perla-krauze/
LOCATION:E CIENTO VEINTE\, C/ Antonio Maura 18\, Madrid\, Madrid\, 28014\, España
CATEGORIES:Exposición,Inaguración
ATTACH;FMTTYPE=image/jpeg:https://ecientoveinte.com/wp-content/uploads/2024/08/Invitacion-PERLA-KRAUZE_1.jpg
ORGANIZER;CN="E CIENTO VEINTE":MAILTO:contacto@ecientoveinte.com
END:VEVENT
BEGIN:VEVENT
DTSTART;TZID=UTC:20240622T110000
DTEND;TZID=UTC:20240622T140000
DTSTAMP:20260422T121506
CREATED:20240711T173909Z
LAST-MODIFIED:20240712T084910Z
UID:11849-1719054000-1719064800@ecientoveinte.com
SUMMARY:JAIME
DESCRIPTION:En el marco de PhotoEspaña 2024\, E CIENTO VEINTE presenta la exposición Jaime de la artista mexicana Silvia Gruner\, la cual reflexiona sobre el peso real y simbólico de construir una casa\, un objeto y una relación humana. \nLa muestra exhibe objetos escultóricos y fotografías de gran formato que interactúan con el espacio de la galería\, resaltando la teatralidad del conjunto. La pieza es un retrato del cuerpo de un trabajador\, destacando el peso físico involucrado en la construcción\, la vulnerabilidad en el trabajo físico y las complejas relaciones humanas que se forman durante el proceso de edificación. Asimismo\, explora las dinámicas de poder entre contratistas y ejecutores\, así como entre géneros. \nDurante el evento\, se llevará a cabo una conversación entre Juan de Nieves y Silvia Gruner.
URL:https://ecientoveinte.com/event/jaime/
LOCATION:E CIENTO VEINTE\, C/ Antonio Maura 18\, Madrid\, Madrid\, 28014\, España
CATEGORIES:Actividades,Exposición,Inaguración
ATTACH;FMTTYPE=image/jpeg:https://ecientoveinte.com/wp-content/uploads/2024/06/Invitacion-Jaime.jpeg
END:VEVENT
BEGIN:VEVENT
DTSTART;TZID=UTC:20240528T180000
DTEND;TZID=UTC:20240528T203000
DTSTAMP:20260422T121506
CREATED:20240711T173352Z
LAST-MODIFIED:20240711T173352Z
UID:11846-1716919200-1716928200@ecientoveinte.com
SUMMARY:CONVERSATORIO ARTE-FILOSOFÍA-CIENCIA
DESCRIPTION:Te invitamos al conversatorio «Arte\, filosofía y ciencia» en torno a la obra de la artista Andrea Bores\, que se encuentra expuesta actualmente en E CIENTO VEINTE. \nLa charla tomará como punto de partida su obra para abordarla desde diferentes perspectivas y disciplinas de la mano de especialistas en cada tema. Se planteará el concepto de la voluntad en la materia para luego discutirla desde una perspectiva tanto física como filosófica a través del concepto de lo sublime. Finalmente se reflexionará alrededor de las prácticas extractivistas en torno a los llamados recursos naturales a lo largo de la historia y su impacto en nuestra contemporaneidad. \nTe esperamos el martes 28 de mayo en Antonio Maura 18\, bajo derecha a partir de las 18:00 h.
URL:https://ecientoveinte.com/event/conversatorio-arte-filosofia-ciencia/
LOCATION:E CIENTO VEINTE\, C/ Antonio Maura 18\, Madrid\, Madrid\, 28014\, España
CATEGORIES:Actividades,Charlas,Programa público
ATTACH;FMTTYPE=image/jpeg:https://ecientoveinte.com/wp-content/uploads/2024/05/Conversatorio-Arte-Filosofia-Ciencia.jpg
ORGANIZER;CN="E CIENTO VEINTE":MAILTO:contacto@ecientoveinte.com
END:VEVENT
BEGIN:VEVENT
DTSTART;TZID=UTC:20240424T180000
DTEND;TZID=UTC:20240424T210000
DTSTAMP:20260422T121506
CREATED:20240711T172636Z
LAST-MODIFIED:20240711T180650Z
UID:11842-1713981600-1713992400@ecientoveinte.com
SUMMARY:EL LATIDO DEL MUNDO BAJO MI LENGUA
DESCRIPTION:El latido del mundo bajo mi lengua nos presenta una exploración del caos ordenante\, concepto que permea la práctica de la artista mexicana Andrea Bores. En ella\, se revela la interacción dinámica entre el azar y la cohesión en el mundo natural. A través de sus obras\, la artista nos invita a contemplar lo que emerge de la interconexión entre lo fragmentado y lo estructurado\, entre lo caótico y lo ordenado. Esta armonía proveniente del desorden aparente\, nos recuerda la complejidad y la riqueza presentes en el tejido mismo de la realidad\, invitándonos a reflexionar sobre nuestra relación con el entorno que habitamos. \nEn un eco del sublime romántico que resuena en la contemporaneidad\, la obra de Bores nos invita a contemplar la intrincada red de significados que se despliega ante nuestros ojos en el mundo natural.
URL:https://ecientoveinte.com/event/el-latido-del-mundo-bajo-mi-lengua/
LOCATION:E CIENTO VEINTE\, C/ Antonio Maura 18\, Madrid\, Madrid\, 28014\, España
CATEGORIES:Actividades,Exposición,Inaguración
ATTACH;FMTTYPE=image/jpeg:https://ecientoveinte.com/wp-content/uploads/2024/07/IMG_4152-750x465-1.jpg
ORGANIZER;CN="E CIENTO VEINTE":MAILTO:contacto@ecientoveinte.com
END:VEVENT
BEGIN:VEVENT
DTSTART;TZID=UTC:20240308T170000
DTEND;TZID=UTC:20240308T200000
DTSTAMP:20260422T121506
CREATED:20240711T171447Z
LAST-MODIFIED:20240712T092515Z
UID:11837-1709917200-1709928000@ecientoveinte.com
SUMMARY:CHARLA + COCTEL Emilio Capela y Blanca de la Torre
DESCRIPTION:Por motivo de la semana del arte queremos invitarte el viernes 8 de marzo a una charla + cóctel a las 17:00h que tendremos al margen de la exposición AFLUENTES. En esta ocasión invitamos a la comisaria Blanca de la Torre a dialogar junto con el artista sobre la crisis ecológica mundial. El diálogo busca enriquecer el debate sobre la contaminación del agua y las prácticas extractivas que minimizan o invisibilizan las consecuencias de sus actividades. Se discutirá la importancia de reconocer a los cuerpos de agua no como recursos inacabables\, sino como entidades situadas\, vulnerables y relacionadas con una multiplicidad de agentes que los afectan. Se hablará de la crisis mundial de escasez de agua y los marcos legales que protegen a los ríos cuando se miran como entidades con personalidad jurídica en lugar de como recursos naturales.
URL:https://ecientoveinte.com/event/charla-emilio-capela-y-blanca-de-la-torre/
LOCATION:E CIENTO VEINTE\, C/ Antonio Maura 18\, Madrid\, Madrid\, 28014\, España
CATEGORIES:Actividades,Charlas,Programa público
ATTACH;FMTTYPE=image/jpeg:https://ecientoveinte.com/wp-content/uploads/2024/03/Inv_brunch_V1-final-2.4.jpg
ORGANIZER;CN="E CIENTO VEINTE":MAILTO:contacto@ecientoveinte.com
END:VEVENT
BEGIN:VEVENT
DTSTART;TZID=UTC:20240224T120000
DTEND;TZID=UTC:20240224T140000
DTSTAMP:20260422T121506
CREATED:20240711T080849Z
LAST-MODIFIED:20240711T081320Z
UID:11818-1708776000-1708783200@ecientoveinte.com
SUMMARY:AFLUENTES para peques
DESCRIPTION:Afluentes para peques es una activación dentro del espacio de E CIENTO VEINTE al margen de la exposición «Afluentes» de Emilio Chapela a manera de taller para niños el cual tiene el objetivo de sensibilizar a los niños sobre la importancia de cuidar el medio ambiente. \nEl taller va dirigido a niños entre 5 y 12 años\, este evento les brindará la oportunidad de conectarse con el arte y la naturaleza a través de la visión del artista. Exploraremos el significado de las piezas de Emilio y experimentaremos a través del arte la apropiación del concepto y la concientización del cuidado del medio ambiente a través de la magia y creatividad de los mas pequeñosde la casa. \nEl taller durará 2 horas y estará compuesto por tres módulos \n\nEl acercamiento a la obra de Emilio\nEl arte como herramienta transformadora y unificadora\nNuestros niños «los grandes artistas»
URL:https://ecientoveinte.com/event/afluentes-para-peques/
LOCATION:E CIENTO VEINTE\, C/ Antonio Maura 18\, Madrid\, Madrid\, 28014\, España
CATEGORIES:Actividades,Actividades para niños,Programa público
ATTACH;FMTTYPE=image/png:https://ecientoveinte.com/wp-content/uploads/2024/02/banner-chiquito-ninos-bien.png
ORGANIZER;CN="E CIENTO VEINTE":MAILTO:contacto@ecientoveinte.com
END:VEVENT
BEGIN:VEVENT
DTSTART;TZID=UTC:20240120T110000
DTEND;TZID=UTC:20240331T140000
DTSTAMP:20260422T121506
CREATED:20240711T075553Z
LAST-MODIFIED:20240711T181557Z
UID:11812-1705748400-1711893600@ecientoveinte.com
SUMMARY:AFLUENTES
DESCRIPTION:La primera exposición individual en Madrid de Emilio Chapela\, marca también la apertura de E CIENTO VEINTE\, un espacio dedicado al arte contemporáneo enfocado en promover intercambios y sinergias entre Latinoamérica y Europa. \nNacido en México (1978)\, el artista multidisciplinario Emilio Chapela desarrolla su práctica en las intersecciones de las ciencias y la tecnología con las artes visuales\, dedicando su quehacer al conocimiento profundo de la naturaleza y sus fenómenos\, cuestionando las maneras en la que las sociedades actuales nos relacionamos con el medio ambiente. \nInteresado por las ciencias naturales y la ecología\, Chapela emplea el arte como una metodología de investigación para indagar acerca de nociones como el tiempo y el espacio\, la luz\, los astros\, la gravedad\, el clima\, rocas\, plantas\, volcanes y ríos. \nPara la muestra inaugural de E CIENTO VEINTE hemos reunido una selección del trabajo más reciente de Chapela. En ella\, el artista aborda con agudeza la compleja relación entre los humanos y otras formas de vida. A partir de un compendio de videos\, instalaciones\, pinturas e imágenes generadas a través de inteligencia artificial\, se devela la idea de “afluentes”; aludiendo a la forma en que todos somos tributarios de una intrincada red de relaciones y consecuencias. \nEn la crisis medioambiental actual\, los ríos se revelan como los testigos angustiados de una narrativa que el Angelus Novus de Walter Benjamin observaría con pesar. En el vasto tejido del pluriverso que habitamos\, estos cuerpos de agua se alzan como arterias vivas que se conectan\, como los hilos del tapiz\, sobre el que se tiende la historia misma de la civilización.
URL:https://ecientoveinte.com/event/afluentes/
LOCATION:E CIENTO VEINTE\, C/ Antonio Maura 18\, Madrid\, Madrid\, 28014\, España
CATEGORIES:Exposición,Inaguración
ATTACH;FMTTYPE=image/webp:https://ecientoveinte.com/wp-content/uploads/2024/07/banner-afluentes-750x465.jpg.webp
ORGANIZER;CN="E CIENTO VEINTE":MAILTO:contacto@ecientoveinte.com
END:VEVENT
END:VCALENDAR