BEGIN:VCALENDAR
VERSION:2.0
PRODID:-//E CIENTO VEINTE - ECPv6.5.1.6//NONSGML v1.0//EN
CALSCALE:GREGORIAN
METHOD:PUBLISH
X-WR-CALNAME:E CIENTO VEINTE
X-ORIGINAL-URL:https://ecientoveinte.com
X-WR-CALDESC:Eventos para E CIENTO VEINTE
REFRESH-INTERVAL;VALUE=DURATION:PT1H
X-Robots-Tag:noindex
X-PUBLISHED-TTL:PT1H
BEGIN:VTIMEZONE
TZID:UTC
BEGIN:STANDARD
TZOFFSETFROM:+0000
TZOFFSETTO:+0000
TZNAME:UTC
DTSTART:20240101T000000
END:STANDARD
END:VTIMEZONE
BEGIN:VEVENT
DTSTART;TZID=UTC:20240224T120000
DTEND;TZID=UTC:20240224T140000
DTSTAMP:20260422T171508
CREATED:20240711T080849Z
LAST-MODIFIED:20240711T081320Z
UID:11818-1708776000-1708783200@ecientoveinte.com
SUMMARY:AFLUENTES para peques
DESCRIPTION:Afluentes para peques es una activación dentro del espacio de E CIENTO VEINTE al margen de la exposición «Afluentes» de Emilio Chapela a manera de taller para niños el cual tiene el objetivo de sensibilizar a los niños sobre la importancia de cuidar el medio ambiente. \nEl taller va dirigido a niños entre 5 y 12 años\, este evento les brindará la oportunidad de conectarse con el arte y la naturaleza a través de la visión del artista. Exploraremos el significado de las piezas de Emilio y experimentaremos a través del arte la apropiación del concepto y la concientización del cuidado del medio ambiente a través de la magia y creatividad de los mas pequeñosde la casa. \nEl taller durará 2 horas y estará compuesto por tres módulos \n\nEl acercamiento a la obra de Emilio\nEl arte como herramienta transformadora y unificadora\nNuestros niños «los grandes artistas»
URL:https://ecientoveinte.com/event/afluentes-para-peques/
LOCATION:E CIENTO VEINTE\, C/ Antonio Maura 18\, Madrid\, Madrid\, 28014\, España
CATEGORIES:Actividades,Actividades para niños,Programa público
ATTACH;FMTTYPE=image/png:https://ecientoveinte.com/wp-content/uploads/2024/02/banner-chiquito-ninos-bien.png
ORGANIZER;CN="E CIENTO VEINTE":MAILTO:contacto@ecientoveinte.com
END:VEVENT
BEGIN:VEVENT
DTSTART;TZID=UTC:20240120T110000
DTEND;TZID=UTC:20240331T140000
DTSTAMP:20260422T171509
CREATED:20240711T075553Z
LAST-MODIFIED:20240711T181557Z
UID:11812-1705748400-1711893600@ecientoveinte.com
SUMMARY:AFLUENTES
DESCRIPTION:La primera exposición individual en Madrid de Emilio Chapela\, marca también la apertura de E CIENTO VEINTE\, un espacio dedicado al arte contemporáneo enfocado en promover intercambios y sinergias entre Latinoamérica y Europa. \nNacido en México (1978)\, el artista multidisciplinario Emilio Chapela desarrolla su práctica en las intersecciones de las ciencias y la tecnología con las artes visuales\, dedicando su quehacer al conocimiento profundo de la naturaleza y sus fenómenos\, cuestionando las maneras en la que las sociedades actuales nos relacionamos con el medio ambiente. \nInteresado por las ciencias naturales y la ecología\, Chapela emplea el arte como una metodología de investigación para indagar acerca de nociones como el tiempo y el espacio\, la luz\, los astros\, la gravedad\, el clima\, rocas\, plantas\, volcanes y ríos. \nPara la muestra inaugural de E CIENTO VEINTE hemos reunido una selección del trabajo más reciente de Chapela. En ella\, el artista aborda con agudeza la compleja relación entre los humanos y otras formas de vida. A partir de un compendio de videos\, instalaciones\, pinturas e imágenes generadas a través de inteligencia artificial\, se devela la idea de “afluentes”; aludiendo a la forma en que todos somos tributarios de una intrincada red de relaciones y consecuencias. \nEn la crisis medioambiental actual\, los ríos se revelan como los testigos angustiados de una narrativa que el Angelus Novus de Walter Benjamin observaría con pesar. En el vasto tejido del pluriverso que habitamos\, estos cuerpos de agua se alzan como arterias vivas que se conectan\, como los hilos del tapiz\, sobre el que se tiende la historia misma de la civilización.
URL:https://ecientoveinte.com/event/afluentes/
LOCATION:E CIENTO VEINTE\, C/ Antonio Maura 18\, Madrid\, Madrid\, 28014\, España
CATEGORIES:Exposición,Inaguración
ATTACH;FMTTYPE=image/webp:https://ecientoveinte.com/wp-content/uploads/2024/07/banner-afluentes-750x465.jpg.webp
ORGANIZER;CN="E CIENTO VEINTE":MAILTO:contacto@ecientoveinte.com
END:VEVENT
END:VCALENDAR